BEGIN:VCALENDAR
VERSION:2.0
PRODID:-//Tukios.com/
BEGIN:VEVENT
UID:4e1f214f-bbc1-4644-82f8-6977fff6642d@www.legacycremationfuneral.com
DTSTAMP:20260425T005033Z
DTSTART:20260501T173000Z
DTEND:20260501T180000Z
SUMMARY:Burial
DESCRIPTION:
URL:https://www.legacycremationfuneral.com/obituaries/wilbur-williams
LOCATION: 700 38th Street  Indianapolis IN 46208
GEO:39.8257549;-86.1722126
END:VEVENT
END:VCALENDAR