BEGIN:VCALENDAR
VERSION:2.0
PRODID:-//Tukios.com/
BEGIN:VEVENT
UID:cb880074-ac8f-4b50-8fe6-723dda83383c@www.legacycremationfuneral.com
DTSTAMP:20260425T004441Z
DTSTART:20260501T163000Z
DTEND:20260501T170000Z
SUMMARY:Funeral Service
DESCRIPTION:
URL:https://www.legacycremationfuneral.com/obituaries/wilbur-williams
LOCATION: 1604 W Morris St  Indianapolis IN 46221
GEO:39.7514441;-86.1889472
END:VEVENT
END:VCALENDAR