BEGIN:VCALENDAR
VERSION:2.0
PRODID:-//Tukios.com/
BEGIN:VEVENT
UID:dd5575ba-f2d2-426a-8920-885347b4d221@www.legacycremationfuneral.com
DTSTAMP:20260425T005310Z
DTSTART:20260501T150000Z
DTEND:20260501T163000Z
SUMMARY:Visitation
DESCRIPTION:
URL:https://www.legacycremationfuneral.com/obituaries/wilbur-williams
LOCATION: 1604 W Morris St  Indianapolis IN 46221
GEO:39.7514441;-86.1889472
END:VEVENT
END:VCALENDAR