BEGIN:VCALENDAR
VERSION:2.0
PRODID:-//Tukios.com/
BEGIN:VEVENT
UID:9c418a0a-739f-4095-bc76-17e9946bb3f2@www.legacycremationfuneral.com
DTSTAMP:20260423T231155Z
DTSTART:20260504T160000Z
DTEND:20260504T170000Z
SUMMARY:Memorial Service
DESCRIPTION:
URL:https://www.legacycremationfuneral.com/obituaries/jill-kelliher
LOCATION: 5215 Shadeland Ave  Indianapolis IN 46226
GEO:39.848041;-86.0456428
END:VEVENT
END:VCALENDAR