BEGIN:VCALENDAR
VERSION:2.0
PRODID:-//Tukios.com/
BEGIN:VEVENT
UID:2881c28a-c5cf-4409-b7af-02a22d34675b@www.legacycremationfuneral.com
DTSTAMP:20260423T231631Z
DTSTART:20260504T150000Z
DTEND:20260504T160000Z
SUMMARY:Memorial Gathering
DESCRIPTION:
URL:https://www.legacycremationfuneral.com/obituaries/jill-kelliher
LOCATION: 5215 Shadeland Ave  Indianapolis IN 46226
GEO:39.848041;-86.0456428
END:VEVENT
END:VCALENDAR