BEGIN:VCALENDAR
VERSION:2.0
PRODID:-//Tukios.com/
BEGIN:VEVENT
UID:f153dd85-44ef-4a8e-b395-e3e9638859d5@www.legacycremationfuneral.com
DTSTAMP:20260422T193907Z
DTSTART:20260428T160000Z
DTEND:20260428T170000Z
SUMMARY:Funeral Service
DESCRIPTION:
URL:https://www.legacycremationfuneral.com/obituaries/jennifer-emler
LOCATION: 1604 W Morris St  Indianapolis IN 46221
GEO:39.7514441;-86.1889472
END:VEVENT
END:VCALENDAR