BEGIN:VCALENDAR
VERSION:2.0
PRODID:-//Tukios.com/
BEGIN:VEVENT
UID:09678df3-a5ec-4c34-8c3c-ae63ccbc8d4b@www.legacycremationfuneral.com
DTSTAMP:20260422T194024Z
DTSTART:20260427T200000Z
DTEND:20260427T230000Z
SUMMARY:Visitation
DESCRIPTION:
URL:https://www.legacycremationfuneral.com/obituaries/jennifer-emler
LOCATION: 1604 W Morris St  Indianapolis IN 46221
GEO:39.7514441;-86.1889472
END:VEVENT
END:VCALENDAR