BEGIN:VCALENDAR
VERSION:2.0
PRODID:-//Tukios.com/
BEGIN:VEVENT
UID:018f912f-db9b-4220-b53a-c73c38252e45@www.legacycremationfuneral.com
DTSTAMP:20260422T224527Z
DTSTART:20260427T153000Z
DTEND:20260427T163000Z
SUMMARY:Funeral Service
DESCRIPTION:
URL:https://www.legacycremationfuneral.com/obituaries/betty-hiter
LOCATION: 5215 Shadeland Ave  Indianapolis IN 46226
GEO:39.848041;-86.0456428
END:VEVENT
END:VCALENDAR