BEGIN:VCALENDAR
VERSION:2.0
PRODID:-//Tukios.com/
BEGIN:VEVENT
UID:75c8c160-d8f7-4dc8-af3d-0bbffe0e5b9e@www.legacycremationfuneral.com
DTSTAMP:20260422T224608Z
DTSTART:20260427T160000Z
DTEND:20260427T170000Z
SUMMARY:Funeral Service
DESCRIPTION:
URL:https://www.legacycremationfuneral.com/obituaries/betty-hiter
LOCATION:Legacy Cremation & Funeral Services—Lawrence 5215 Shadeland 
	Avenue  Lawrence IN 46226
GEO:39.848033;-86.0456669
END:VEVENT
END:VCALENDAR