BEGIN:VCALENDAR
VERSION:2.0
PRODID:-//Tukios.com/
BEGIN:VEVENT
UID:a16dcf0e-31a8-4175-8529-5857d02ccf63@www.legacycremationfuneral.com
DTSTAMP:20260422T225038Z
DTSTART:20260427T143000Z
DTEND:20260427T160000Z
SUMMARY:Visitation
DESCRIPTION:
URL:https://www.legacycremationfuneral.com/obituaries/betty-hiter
LOCATION:Legacy Cremation & Funeral Services—Lawrence 5215 Shadeland 
	Avenue  Lawrence IN 46226
GEO:39.848033;-86.0456669
END:VEVENT
END:VCALENDAR